BEGIN:VCALENDAR
VERSION:2.0
PRODID:-//wp-events-plugin.com//6.6.1//EN
TZID:Europe/Zurich
X-WR-TIMEZONE:Europe/Zurich
BEGIN:VEVENT
UID:31@fsai.ch
DTSTART;VALUE=DATE:20210507
DTEND;VALUE=DATE:20210509
DTSTAMP:20210128T191703Z
URL:https://www.fsai.ch/events/workshop-zur-neupositionierung-des-fsai/
SUMMARY:Workshop zur Neupositionierung des FSAI
DESCRIPTION:Organisation: Niklaus Reinhard
END:VEVENT
END:VCALENDAR