BEGIN:VCALENDAR
VERSION:2.0
PRODID:-//wp-events-plugin.com//6.6.1//EN
TZID:Europe/Zurich
X-WR-TIMEZONE:Europe/Zurich
BEGIN:VEVENT
UID:45@fsai.ch
DTSTART:20221117T180000Z
DTEND:20221117T213000Z
DTSTAMP:20220503T154025Z
URL:https://www.fsai.ch/events/werkstattgespraech_04/
SUMMARY:Werkstattgespräch_04
DESCRIPTION:Vorgängig zu den Werkstattgesprächen finden jeweils 16.30 –
  18.00h die Vorstandssitzungen statt.
LOCATION:maeder | stooss architekten gmbh\, Wasserwerkgasse 3\, Bern\, 3011
 \, Schweiz
GEO:46.94714;7.457868
X-APPLE-STRUCTURED-LOCATION;VALUE=URI;X-ADDRESS=Wasserwerkgasse 3\, Bern\, 
 3011\, Schweiz;X-APPLE-RADIUS=100;X-TITLE=maeder | stooss architekten gmbh
 :geo:46.94714,7.457868
END:VEVENT
END:VCALENDAR