BEGIN:VCALENDAR
VERSION:2.0
PRODID:-//wp-events-plugin.com//6.6.1//EN
TZID:Europe/Zurich
X-WR-TIMEZONE:Europe/Zurich
BEGIN:VEVENT
UID:44@fsai.ch
DTSTART:20220908T180000Z
DTEND:20220908T213000Z
DTSTAMP:20220719T172304Z
URL:https://www.fsai.ch/events/werkstattgespraech_03/
SUMMARY:Werkstattgespräch_03
DESCRIPTION:Vorgängig zu den Werkstattgesprächen finden jeweils 16.30 –
  18.00h die Vorstandssitzungen statt.
LOCATION:Bern\, Bern\, Bern\, 
GEO:46.947974;7.447447
X-APPLE-STRUCTURED-LOCATION;VALUE=URI;X-ADDRESS=Bern\, Bern\, ;X-APPLE-RADI
 US=100;X-TITLE=Bern:geo:46.947974,7.447447
END:VEVENT
END:VCALENDAR