BEGIN:VCALENDAR
VERSION:2.0
PRODID:-//wp-events-plugin.com//6.6.1//EN
TZID:Europe/Zurich
X-WR-TIMEZONE:Europe/Zurich
BEGIN:VEVENT
UID:74@fsai.ch
DTSTART:20240905T174500Z
DTEND:20240905T200000Z
DTSTAMP:20240705T144402Z
URL:https://www.fsai.ch/events/werkstattgespraech_03-2/
SUMMARY:Werkstattgespräch_03/2024
DESCRIPTION:TSAP Architekten und Planer AG – Urtenen-Schönbühl\nThomas
  Stettler\n\nDer genaue Veranstaltungsort wird mit der Einladung bekanntge
 geben.
LOCATION:Bern\, Bern\, Bern\, 
GEO:46.947974;7.447447
X-APPLE-STRUCTURED-LOCATION;VALUE=URI;X-ADDRESS=Bern\, Bern\, ;X-APPLE-RADI
 US=100;X-TITLE=Bern:geo:46.947974,7.447447
END:VEVENT
END:VCALENDAR