BEGIN:VCALENDAR
VERSION:2.0
PRODID:-//wp-events-plugin.com//6.6.1//EN
TZID:Europe/Zurich
X-WR-TIMEZONE:Europe/Zurich
BEGIN:VEVENT
UID:43@fsai.ch
DTSTART:20220602T180000Z
DTEND:20220602T213000Z
DTSTAMP:20220503T153804Z
URL:https://www.fsai.ch/events/werkstattgespraech_02/
SUMMARY:Werkstattgespräch_02
DESCRIPTION:Vorgängig zu den Werkstattgesprächen finden jeweils 16.30 –
  18.00h die Vorstandssitzungen statt.
LOCATION:Bauart Architekten und Planer AG\, Laupenstrasse 20\, Bern\, 3008\
 , Schweiz
GEO:46.947487;7.434802
X-APPLE-STRUCTURED-LOCATION;VALUE=URI;X-ADDRESS=Laupenstrasse 20\, Bern\, 3
 008\, Schweiz;X-APPLE-RADIUS=100;X-TITLE=Bauart Architekten und Planer AG:
 geo:46.947487,7.434802
END:VEVENT
END:VCALENDAR