BEGIN:VCALENDAR
VERSION:2.0
PRODID:-//wp-events-plugin.com//6.6.1//EN
TZID:Europe/Zurich
X-WR-TIMEZONE:Europe/Zurich
BEGIN:VEVENT
UID:60@fsai.ch
DTSTART:20231026T180000Z
DTEND:20231026T210000Z
DTSTAMP:20230724T143520Z
URL:https://www.fsai.ch/events/werkstattgespraech_02-2/
SUMMARY:Werkstattgespräch_02
DESCRIPTION:Werkstattgespräch bei jungheim Architekten GmbH mit Samuel Mé
 traux Architektur GmbH
LOCATION:jungheim Architekten GmbH\, Schlossstrasse 122a\, Bern\, 3008\, Sc
 hweiz
GEO:46.944247;7.411394
X-APPLE-STRUCTURED-LOCATION;VALUE=URI;X-ADDRESS=Schlossstrasse 122a\, Bern\
 , 3008\, Schweiz;X-APPLE-RADIUS=100;X-TITLE=jungheim Architekten GmbH:geo:
 46.944247,7.411394
END:VEVENT
END:VCALENDAR