BEGIN:VCALENDAR
VERSION:2.0
PRODID:-//wp-events-plugin.com//6.6.1//EN
TZID:Europe/Zurich
X-WR-TIMEZONE:Europe/Zurich
BEGIN:VEVENT
UID:42@fsai.ch
DTSTART:20220512T180000Z
DTEND:20220512T213000Z
DTSTAMP:20220503T153612Z
URL:https://www.fsai.ch/events/werkstattgespraech_01/
SUMMARY:Werkstattgespräch_01
DESCRIPTION:Vorgängig zu den Werkstattgesprächen finden jeweils 16.30 –
  18.00h die Vorstandssitzungen statt.
LOCATION:Büro Leismann AG\, Engehaldenstrasse 20\, Bern\, Bern\, 3012\, Sc
 hweiz
GEO:46.955559;7.439919
X-APPLE-STRUCTURED-LOCATION;VALUE=URI;X-ADDRESS=Engehaldenstrasse 20\, Bern
 \, Bern\, 3012\, Schweiz;X-APPLE-RADIUS=100;X-TITLE=Büro Leismann AG:geo:
 46.955559,7.439919
END:VEVENT
END:VCALENDAR