BEGIN:VCALENDAR
VERSION:2.0
PRODID:-//wp-events-plugin.com//6.6.1//EN
TZID:Europe/Zurich
X-WR-TIMEZONE:Europe/Zurich
BEGIN:VEVENT
UID:71@fsai.ch
DTSTART:20240523T180000Z
DTEND:20240523T203000Z
DTSTAMP:20240506T072943Z
URL:https://www.fsai.ch/events/werkstattgespraech_01-3/
SUMMARY:Werkstattgespräch_01
DESCRIPTION:Platzhalter Studio für Städtebau GmbH\n\nGegründet von jung
 heim Architektur GmbH SIA und Samuel Métraux\nArchitektur. GmbH\, Dimitri
  Heimlicher und Samuel Métraux\n\n&nbsp\;\n\n18.00h Beginn der Veranstalt
 ung\n\n18.45h Apéro und individuelle Gespräche\n\n&nbsp\;\n\nDamit der A
 péro im richtigen Umfang vorbereitet werden kann\, bitten wir Euch um ein
 e Anmeldung an\nhallo@platzhalter-studio.ch oder +41 31 533 60 60 bis Mont
 ag\, 20. Mai 2024 12:00\nWir freuen uns auf Eure Teilnahme!
LOCATION:Platzhalter Studio\, Fliederweg 10\, Bern\, 3007\, Schweiz
GEO:46.944065;7.429017
X-APPLE-STRUCTURED-LOCATION;VALUE=URI;X-ADDRESS=Fliederweg 10\, Bern\, 3007
 \, Schweiz;X-APPLE-RADIUS=100;X-TITLE=Platzhalter Studio:geo:46.944065,7.4
 29017
END:VEVENT
END:VCALENDAR