BEGIN:VCALENDAR
VERSION:2.0
PRODID:-//wp-events-plugin.com//6.6.1//EN
TZID:Europe/Zurich
X-WR-TIMEZONE:Europe/Zurich
BEGIN:VEVENT
UID:59@fsai.ch
DTSTART:20230824T173000Z
DTEND:20230824T194500Z
DTSTAMP:20230804T145829Z
URL:https://www.fsai.ch/events/werkstattgespraech_01-2/
SUMMARY:Werkstattgespräch_01
DESCRIPTION:Werkstattgespräch mit awerk architekten\n\nDer Anlass findet i
 n Corgevaux statt!\n\nAnmeldung über info@awerk.ch bis spätestens 15. Au
 gust\n\n- 17.30h Treffpunkt am Südeingang Schlosspark bei der Ziegelei\,
  Parkplätze sind vorhanden / ÖV: zu Fuss 15’ vom Bahnhof Münchenwile
 r-Courgevaux\n\n- 17.45h Begrüssung und kurze Einführung in das Wohnpr
 ojekt "Wohnen im Schlosspark" für kunst- und kulturinteressierte urbane 
 Menschen\n\n- 18.00h Führung durch den Schlosspark mit alter Ziegelei\, 
 Trocknungshalle‚ Cottage\, Badebrunnen\, Fasanerie\, Musikpavillon\, Aus
 sensauna\, Orangerie\, Scheune und Manoir\n\n- 19.30h Apéro und individue
 lle Gespräche in der "Küchenwerkstatt" im Manoir
LOCATION:Schlosspark Courvageux\, Wilerweg 5\, Courgevaux\, 1796\, Schweiz
GEO:46.925375;7.117535
X-APPLE-STRUCTURED-LOCATION;VALUE=URI;X-ADDRESS=Wilerweg 5\, Courgevaux\, 1
 796\, Schweiz;X-APPLE-RADIUS=100;X-TITLE=Schlosspark Courvageux:geo:46.925
 375,7.117535
END:VEVENT
END:VCALENDAR