BEGIN:VCALENDAR
VERSION:2.0
PRODID:-//wp-events-plugin.com//6.6.1//EN
TZID:Europe/Zurich
X-WR-TIMEZONE:Europe/Zurich
BEGIN:VEVENT
UID:84@fsai.ch
DTSTART:20250206T180000Z
DTEND:20250206T203000Z
DTSTAMP:20250120T125851Z
URL:https://www.fsai.ch/events/werkstattgespraech-zh_01_25/
SUMMARY:Werkstattgespräch ZH_01_25
DESCRIPTION:Zum Jahresbeginn sind wir bei SACH Architekten AG in Zürich Al
 tstetten zu Gast. Alessandra Chiasera und Pasquale Sabatino gönnen uns ei
 nen Einblick in ihr aktuelles Schaffen.\n\nBeginn 18.00h\n\nStampfenbrunne
 nstrasse 1\, 8048 Zürich\n\nParkplätze sind beim nahe gelegenen Hallenba
 d Altstetten zu finden\, mit den ÖV bis Farbhof und dann 5' zu Fuss.\n\nA
 nmeldung bitte per Mail auf fsai@fsai.ch. Wir freuen uns auf zahlreiche Te
 ilnahme im neuen Jahr!\n\nVeranstalter Regionalgruppe Zürich
LOCATION:SACH Architekten AG\, Stampfenbrunnenstrasse 1\, Zürich\, Schweiz
GEO:47.388273;8.480399
X-APPLE-STRUCTURED-LOCATION;VALUE=URI;X-ADDRESS=Stampfenbrunnenstrasse 1\, 
 Zürich\, Schweiz;X-APPLE-RADIUS=100;X-TITLE=SACH Architekten AG:geo:47.38
 8273,8.480399
END:VEVENT
END:VCALENDAR