BEGIN:VCALENDAR
VERSION:2.0
PRODID:-//wp-events-plugin.com//6.6.1//EN
TZID:Europe/Zurich
X-WR-TIMEZONE:Europe/Zurich
BEGIN:VEVENT
UID:23@fsai.ch
DTSTART:20201126T180000Z
DTEND:20201126T200000Z
DTSTAMP:20201104T123341Z
URL:https://www.fsai.ch/events/werkstattgespraech-wg-4/
SUMMARY:*ABGESAGT* Werkstattgespräch WG 4
DESCRIPTION:Das Werkstattgespräch WG 4 bei mansarde 3 wird aufgrund der ak
 tuellen Lage leider abgesagt. Über die Wiederaufnahme der Reihe informier
 en wir zu gegebenem Zeitpunkt.\n\nFür FSAI-Mitglieder steht für den gege
 nseitigen Austausch das neue Forum auf dieser Webseite zur Verfügung. Üb
 er jeden Besuch und jeden Beitrag freuen wir uns.
LOCATION:mansarde 3\, Hodlerstrasse 5b\, Bern\, 3011\, BE\, Schweiz
GEO:46.950927;7.442816
X-APPLE-STRUCTURED-LOCATION;VALUE=URI;X-ADDRESS=Hodlerstrasse 5b\, Bern\, 3
 011\, BE\, Schweiz;X-APPLE-RADIUS=100;X-TITLE=mansarde 3:geo:46.950927,7.4
 42816
END:VEVENT
END:VCALENDAR