BEGIN:VCALENDAR
VERSION:2.0
PRODID:-//wp-events-plugin.com//6.6.1//EN
TZID:Europe/Zurich
X-WR-TIMEZONE:Europe/Zurich
BEGIN:VEVENT
UID:22@fsai.ch
DTSTART:20200910T180000Z
DTEND:20200910T200000Z
DTSTAMP:20200903T151756Z
URL:https://www.fsai.ch/events/werkstattgespraech-wg-3/
SUMMARY:Werkstattgespräch WG 3
DESCRIPTION:**ABGESAGT**\n\nDas Werkstattgespräch WG 3  bei Aebi Vincent 
 ist aufgrund der nach wie vor anhaltenden Pandemie abgesagt und auf nächs
 tes Jahr verschoben.\n\nVorerst halten wir an der Veranstaltung WG 4 am 26
 . November 2020 bei mansarde 3 fest. Wir informieren rechtzeitig.\n\n&nbsp
 \;
LOCATION:Aebi Vincent Architekten\, Monbijoustrasse 61\, Bern\, 3007\, Bern
 \, Schweiz
GEO:46.94123;7.436261
X-APPLE-STRUCTURED-LOCATION;VALUE=URI;X-ADDRESS=Monbijoustrasse 61\, Bern\,
  3007\, Bern\, Schweiz;X-APPLE-RADIUS=100;X-TITLE=Aebi Vincent Architekten
 :geo:46.94123,7.436261
END:VEVENT
END:VCALENDAR