BEGIN:VCALENDAR
VERSION:2.0
PRODID:-//wp-events-plugin.com//6.6.1//EN
TZID:Europe/Zurich
X-WR-TIMEZONE:Europe/Zurich
BEGIN:VEVENT
UID:21@fsai.ch
DTSTART:20200702T180000Z
DTEND:20200702T200000Z
DTSTAMP:20200624T071856Z
URL:https://www.fsai.ch/events/werkstattgespraech-wg-2/
SUMMARY:Werkstattgespräch WG 2
DESCRIPTION:**ABGESAGT**\n\nDas Werkstattgespräch WG 2  bei Spreng + Part
 ner Architekten AG wird leider kurzfristig abgesagt. Die weiteren Termin b
 leiben vorerst bestehen – wir hoffen\, sie wie geplant durchführen zu k
 önnen. Bei Änderungen informieren wir so rasch als möglich.
LOCATION:Spreng + Partner Architekten AG\, Falkenweg 3a\, Bern\, 3012\, BE\
 , Schweiz
GEO:46.951452;7.437463
X-APPLE-STRUCTURED-LOCATION;VALUE=URI;X-ADDRESS=Falkenweg 3a\, Bern\, 3012\
 , BE\, Schweiz;X-APPLE-RADIUS=100;X-TITLE=Spreng + Partner Architekten AG:
 geo:46.951452,7.437463
END:VEVENT
END:VCALENDAR