BEGIN:VCALENDAR
VERSION:2.0
PRODID:-//wp-events-plugin.com//6.6.1//EN
TZID:Europe/Zurich
X-WR-TIMEZONE:Europe/Zurich
BEGIN:VEVENT
UID:39@fsai.ch
DTSTART:20211125T180000Z
DTEND:20211125T220000Z
DTSTAMP:20211115T163516Z
URL:https://www.fsai.ch/events/werkstattgespraech-n2-2/
SUMMARY:Werkstattgespräch N°2
DESCRIPTION:
LOCATION:Büro mansarde 3\, Breitenrainstrasse 25\, Bern\, Bern\, 3013\, Sc
 hweiz
GEO:46.957598;7.451935
X-APPLE-STRUCTURED-LOCATION;VALUE=URI;X-ADDRESS=Breitenrainstrasse 25\, Ber
 n\, Bern\, 3013\, Schweiz;X-APPLE-RADIUS=100;X-TITLE=Büro mansarde 3:geo:
 46.957598,7.451935
END:VEVENT
END:VCALENDAR