BEGIN:VCALENDAR
VERSION:2.0
PRODID:-//wp-events-plugin.com//6.6.1//EN
TZID:Europe/Zurich
X-WR-TIMEZONE:Europe/Zurich
BEGIN:VEVENT
UID:78@fsai.ch
DTSTART:20250918T180000Z
DTEND:20250918T210000Z
DTSTAMP:20250127T094742Z
URL:https://www.fsai.ch/events/werkstattgespraech-be_03_25/
SUMMARY:Werkstattgespräch BE_03_25
DESCRIPTION:Zu Gast bei Brügger Architekten AG\, Thun\n\nVeranstalter Regi
 onalgruppe Bern
LOCATION:Bern\, Bern\, Bern\, 
GEO:46.947974;7.447447
X-APPLE-STRUCTURED-LOCATION;VALUE=URI;X-ADDRESS=Bern\, Bern\, ;X-APPLE-RADI
 US=100;X-TITLE=Bern:geo:46.947974,7.447447
END:VEVENT
END:VCALENDAR