BEGIN:VCALENDAR
VERSION:2.0
PRODID:-//wp-events-plugin.com//6.6.1//EN
TZID:Europe/Zurich
X-WR-TIMEZONE:Europe/Zurich
BEGIN:VEVENT
UID:103@fsai.ch
DTSTART:20261015T180000Z
DTEND:20261015T200000Z
DTSTAMP:20251215T082922Z
URL:https://www.fsai.ch/events/werkstattgespraech-be-04-26/
SUMMARY:Werkstattgespräch BE 04/26
DESCRIPTION:Werkstattgespräch in Bern/Umgebung\n\noffene Veranstaltung fü
 r Mitglieder und Interessierte
END:VEVENT
END:VCALENDAR