BEGIN:VCALENDAR
VERSION:2.0
PRODID:-//wp-events-plugin.com//6.6.1//EN
TZID:Europe/Zurich
X-WR-TIMEZONE:Europe/Zurich
BEGIN:VEVENT
UID:102@fsai.ch
DTSTART:20260917T180000Z
DTEND:20260917T200000Z
DTSTAMP:20251215T082853Z
URL:https://www.fsai.ch/events/werkstattgespraech-be-03-26/
SUMMARY:Werkstattgespräch BE 03/26
DESCRIPTION:Werkstattgespräch in Bern/Umgebung\n\noffene Veranstaltung fü
 r Mitglieder und Interessierte
END:VEVENT
END:VCALENDAR