BEGIN:VCALENDAR
VERSION:2.0
PRODID:-//wp-events-plugin.com//6.6.1//EN
TZID:Europe/Zurich
X-WR-TIMEZONE:Europe/Zurich
BEGIN:VEVENT
UID:101@fsai.ch
DTSTART:20260611T180000Z
DTEND:20260611T200000Z
DTSTAMP:20260123T140728Z
URL:https://www.fsai.ch/events/werkstattgespraech-be-02-26/
SUMMARY:Werkstattgespräch BE 02/26
DESCRIPTION:Werkstattgespräch in Bern/Umgebung\n\noffene Veranstaltung fü
 r Mitglieder und Interessierte
END:VEVENT
END:VCALENDAR