BEGIN:VCALENDAR
VERSION:2.0
PRODID:-//wp-events-plugin.com//6.6.1//EN
TZID:Europe/Zurich
X-WR-TIMEZONE:Europe/Zurich
BEGIN:VEVENT
UID:100@fsai.ch
DTSTART:20260319T180000Z
DTEND:20260319T200000Z
DTSTAMP:20260227T095917Z
URL:https://www.fsai.ch/events/werkstattgespraech-be-01-26/
SUMMARY:Werkstattgespräch BE 01/26
DESCRIPTION:Orientierungsanlass/Werkstattgespräch in den Vidmarhallen Bern
 \n\n 	Orientierung Aktivitäten fsai\n 	Kurzreferat von Claudio Campanile 
 zum Unesco Managementplan Stadt Bern\n 	Nachtessen im le Beizli\n\noffene 
 Veranstaltung für Mitglieder und Interessierte\n\n&nbsp\;\n\nFlyer FSAI_O
 rientierungsanlass
LOCATION:Atelierraum Rykard Architekten\, Vidmarhallen und Le Beizli\, Kön
 izstrasse 161\, Liebefeld\, Bern\, 3097\, Schweiz
GEO:46.934933;7.417593
X-APPLE-STRUCTURED-LOCATION;VALUE=URI;X-ADDRESS=Könizstrasse 161\, Liebefe
 ld\, Bern\, 3097\, Schweiz;X-APPLE-RADIUS=100;X-TITLE=Atelierraum Rykard A
 rchitekten\, Vidmarhallen und Le Beizli:geo:46.934933,7.417593
END:VEVENT
END:VCALENDAR