BEGIN:VCALENDAR
VERSION:2.0
PRODID:-//wp-events-plugin.com//6.6.1//EN
TZID:Europe/Zurich
X-WR-TIMEZONE:Europe/Zurich
BEGIN:VEVENT
UID:97@fsai.ch
DTSTART:20261015T153000Z
DTEND:20261015T170000Z
DTSTAMP:20251215T082312Z
URL:https://www.fsai.ch/events/vs-4-2026/
SUMMARY:VS 4/2026
DESCRIPTION:4. Vorstandssitzung 2026\n\nanschliessend Werkstattgespräch in
  Bern
END:VEVENT
END:VCALENDAR