BEGIN:VCALENDAR
VERSION:2.0
PRODID:-//wp-events-plugin.com//6.6.1//EN
TZID:Europe/Zurich
X-WR-TIMEZONE:Europe/Zurich
BEGIN:VEVENT
UID:80@fsai.ch
DTSTART:20251016T153000Z
DTEND:20251016T173000Z
DTSTAMP:20241015T090743Z
URL:https://www.fsai.ch/events/vs-4-2025/
SUMMARY:VS 4/2025
DESCRIPTION:Vorstandssitzung in Bern\n\nWerkstattgespräch im Anschluss
LOCATION:Bern\, Bern\, Bern\, 
GEO:46.947974;7.447447
X-APPLE-STRUCTURED-LOCATION;VALUE=URI;X-ADDRESS=Bern\, Bern\, ;X-APPLE-RADI
 US=100;X-TITLE=Bern:geo:46.947974,7.447447
END:VEVENT
END:VCALENDAR