BEGIN:VCALENDAR
VERSION:2.0
PRODID:-//wp-events-plugin.com//6.6.1//EN
TZID:Europe/Zurich
X-WR-TIMEZONE:Europe/Zurich
BEGIN:VEVENT
UID:65@fsai.ch
DTSTART:20241017T153000Z
DTEND:20241017T173000Z
DTSTAMP:20240705T121324Z
URL:https://www.fsai.ch/events/vs-4-2024/
SUMMARY:VS 4/2024
DESCRIPTION:Vorstandssitzung\n\nvor Werkstattgespräch
LOCATION:Büro Rykart Architekten AG\, Könizstrasse 161\, Liebefeld\, 3097
 \, Schweiz
GEO:46.934933;7.417593
X-APPLE-STRUCTURED-LOCATION;VALUE=URI;X-ADDRESS=Könizstrasse 161\, Liebefe
 ld\, 3097\, Schweiz;X-APPLE-RADIUS=100;X-TITLE=Büro Rykart Architekten AG
 :geo:46.934933,7.417593
END:VEVENT
END:VCALENDAR