BEGIN:VCALENDAR
VERSION:2.0
PRODID:-//wp-events-plugin.com//6.6.1//EN
TZID:Europe/Zurich
X-WR-TIMEZONE:Europe/Zurich
BEGIN:VEVENT
UID:104@fsai.ch
DTSTART:20260611T173000Z
DTEND:20260611T190000Z
DTSTAMP:20260205T133127Z
URL:https://www.fsai.ch/events/vs-3-2026-2/
SUMMARY:VS 3/2026
DESCRIPTION:3. Vorstandssitzung 2026
END:VEVENT
END:VCALENDAR