BEGIN:VCALENDAR
VERSION:2.0
PRODID:-//wp-events-plugin.com//6.6.1//EN
TZID:Europe/Zurich
X-WR-TIMEZONE:Europe/Zurich
BEGIN:VEVENT
UID:87@fsai.ch
DTSTART:20250703T140000Z
DTEND:20250703T170000Z
DTSTAMP:20250627T084853Z
URL:https://www.fsai.ch/events/vs-3-2025/
SUMMARY:VS 3/2025
DESCRIPTION:Vorstandssitzung in Rheinfelden (Vorab 12.00h gemeinsames Zmitt
 ag)
END:VEVENT
END:VCALENDAR