BEGIN:VCALENDAR
VERSION:2.0
PRODID:-//wp-events-plugin.com//6.6.1//EN
TZID:Europe/Zurich
X-WR-TIMEZONE:Europe/Zurich
BEGIN:VEVENT
UID:86@fsai.ch
DTSTART:20250424T153000Z
DTEND:20250424T173000Z
DTSTAMP:20241015T090520Z
URL:https://www.fsai.ch/events/vs-2-2025/
SUMMARY:VS 2/2025
DESCRIPTION:Vorstandssitzung in Luzern\n\nMitgliederversammlung im Anschlus
 s
END:VEVENT
END:VCALENDAR