BEGIN:VCALENDAR
VERSION:2.0
PRODID:-//wp-events-plugin.com//6.6.1//EN
TZID:Europe/Zurich
X-WR-TIMEZONE:Europe/Zurich
BEGIN:VEVENT
UID:63@fsai.ch
DTSTART:20240426T100000Z
DTEND:20240426T140000Z
DTSTAMP:20231027T200845Z
URL:https://www.fsai.ch/events/vs-2-2024/
SUMMARY:VS 2/2024
DESCRIPTION:Vorstandssitzung
LOCATION:Zürich\, Forchstrasse 30\, Zürich\, Schweiz
GEO:47.363849;8.556442
X-APPLE-STRUCTURED-LOCATION;VALUE=URI;X-ADDRESS=Forchstrasse 30\, Zürich\,
  Schweiz;X-APPLE-RADIUS=100;X-TITLE=Zürich:geo:47.363849,8.556442
END:VEVENT
END:VCALENDAR