BEGIN:VCALENDAR
VERSION:2.0
PRODID:-//wp-events-plugin.com//6.6.1//EN
TZID:Europe/Zurich
X-WR-TIMEZONE:Europe/Zurich
BEGIN:VEVENT
UID:94@fsai.ch
DTSTART:20260205T103000Z
DTEND:20260205T120000Z
DTSTAMP:20260128T134312Z
URL:https://www.fsai.ch/events/vs-1-2026/
SUMMARY:VS 1/2026
DESCRIPTION:1. Vorstandssitzung 2026
END:VEVENT
END:VCALENDAR