BEGIN:VCALENDAR
VERSION:2.0
PRODID:-//wp-events-plugin.com//6.6.1//EN
TZID:Europe/Zurich
X-WR-TIMEZONE:Europe/Zurich
BEGIN:VEVENT
UID:79@fsai.ch
DTSTART:20240206T140000Z
DTEND:20240206T160000Z
DTSTAMP:20240705T143707Z
URL:https://www.fsai.ch/events/vs-1-2025/
SUMMARY:VS 1/2025
DESCRIPTION:1. Vorstandssitzung in Zürich\n\nim Anschluss Werkstattgesprä
 ch
END:VEVENT
END:VCALENDAR