BEGIN:VCALENDAR
VERSION:2.0
PRODID:-//wp-events-plugin.com//6.6.1//EN
TZID:Europe/Zurich
X-WR-TIMEZONE:Europe/Zurich
BEGIN:VEVENT
UID:83@fsai.ch
DTSTART:20250206T153000Z
DTEND:20250206T173000Z
DTSTAMP:20241015T090431Z
URL:https://www.fsai.ch/events/vs-1-2025-2/
SUMMARY:VS 1/2025
DESCRIPTION:Vorstandssitzung in Zürich\n\nWerkstattgespräch im Anschluss
END:VEVENT
END:VCALENDAR