BEGIN:VCALENDAR
VERSION:2.0
PRODID:-//wp-events-plugin.com//6.6.1//EN
TZID:Europe/Zurich
X-WR-TIMEZONE:Europe/Zurich
BEGIN:VEVENT
UID:62@fsai.ch
DTSTART:20240202T100000Z
DTEND:20240202T140000Z
DTSTAMP:20231027T200733Z
URL:https://www.fsai.ch/events/vs-1-2024/
SUMMARY:VS 1/2024
DESCRIPTION:Vorstandssitzung
LOCATION:Bern\, Bern\, Bern\, 
GEO:46.947974;7.447447
X-APPLE-STRUCTURED-LOCATION;VALUE=URI;X-ADDRESS=Bern\, Bern\, ;X-APPLE-RADI
 US=100;X-TITLE=Bern:geo:46.947974,7.447447
END:VEVENT
END:VCALENDAR