BEGIN:VCALENDAR
VERSION:2.0
PRODID:-//wp-events-plugin.com//6.6.1//EN
TZID:Europe/Zurich
X-WR-TIMEZONE:Europe/Zurich
BEGIN:VEVENT
UID:15@fsai.ch
DTSTART:20201023T103000Z
DTEND:20201023T120000Z
DTSTAMP:20191121T170303Z
URL:https://www.fsai.ch/events/vs-04-20/
SUMMARY:Vorstandssitzung 04.20
DESCRIPTION:
LOCATION:Restaurant Kunsthaus\, Heimplatz 1\, Zürich\, 8001\, 
GEO:47.370112;8.547861
X-APPLE-STRUCTURED-LOCATION;VALUE=URI;X-ADDRESS=Heimplatz 1\, Zürich\, 800
 1\, ;X-APPLE-RADIUS=100;X-TITLE=Restaurant Kunsthaus:geo:47.370112,8.54786
 1
END:VEVENT
END:VCALENDAR