BEGIN:VCALENDAR
VERSION:2.0
PRODID:-//wp-events-plugin.com//6.6.1//EN
TZID:Europe/Zurich
X-WR-TIMEZONE:Europe/Zurich
BEGIN:VEVENT
UID:14@fsai.ch
DTSTART:20200703T103000Z
DTEND:20200703T120000Z
DTSTAMP:20191121T170244Z
URL:https://www.fsai.ch/events/vs-03-20/
SUMMARY:Vorstandssitzung 03.20
DESCRIPTION:Vorstandssitzung mit anschliessender archithavolata
LOCATION:Restaurant Palmhof\, Universitätstrasse 23\, Zürich\, 8006\, 
GEO:47.379123;8.547915
X-APPLE-STRUCTURED-LOCATION;VALUE=URI;X-ADDRESS=Universitätstrasse 23\, Z
 ürich\, 8006\, ;X-APPLE-RADIUS=100;X-TITLE=Restaurant Palmhof:geo:47.3791
 23,8.547915
END:VEVENT
END:VCALENDAR