BEGIN:VCALENDAR
VERSION:2.0
PRODID:-//wp-events-plugin.com//6.6.1//EN
TZID:Europe/Zurich
X-WR-TIMEZONE:Europe/Zurich
BEGIN:VEVENT
UID:53@fsai.ch
DTSTART:20231027T100000Z
DTEND:20231027T120000Z
DTSTAMP:20231016T142356Z
URL:https://www.fsai.ch/events/vorstandssitzung-vs-05-23/
SUMMARY:Vorstandssitzung VS 05.23
DESCRIPTION:\n 	Jahresplanung 2024\n
LOCATION:Vogel Architekten AG\, Baslerstrasse 15\, Rheinfelden\, 4310\, Sch
 weiz
GEO:47.551338;7.785259
X-APPLE-STRUCTURED-LOCATION;VALUE=URI;X-ADDRESS=Baslerstrasse 15\, Rheinfel
 den\, 4310\, Schweiz;X-APPLE-RADIUS=100;X-TITLE=Vogel Architekten AG:geo:4
 7.551338,7.785259
END:VEVENT
END:VCALENDAR