BEGIN:VCALENDAR
VERSION:2.0
PRODID:-//wp-events-plugin.com//6.6.1//EN
TZID:Europe/Zurich
X-WR-TIMEZONE:Europe/Zurich
BEGIN:VEVENT
UID:51@fsai.ch
DTSTART:20230602T100000Z
DTEND:20230602T120000Z
DTSTAMP:20230324T103240Z
URL:https://www.fsai.ch/events/vorstandssitzung-vs-03-23/
SUMMARY:Vorstandssitzung VS 03.23
DESCRIPTION:\n 	Konstituierung neuer Vorstand\n
LOCATION:Zürich\, Forchstrasse 30\, Zürich\, Schweiz
GEO:47.363849;8.556442
X-APPLE-STRUCTURED-LOCATION;VALUE=URI;X-ADDRESS=Forchstrasse 30\, Zürich\,
  Schweiz;X-APPLE-RADIUS=100;X-TITLE=Zürich:geo:47.363849,8.556442
END:VEVENT
END:VCALENDAR