BEGIN:VCALENDAR
VERSION:2.0
PRODID:-//wp-events-plugin.com//6.6.1//EN
TZID:Europe/Zurich
X-WR-TIMEZONE:Europe/Zurich
BEGIN:VEVENT
UID:48@fsai.ch
DTSTART:20230324T100000Z
DTEND:20230324T120000Z
DTSTAMP:20221022T154421Z
URL:https://www.fsai.ch/events/vorstandssitzung-vs-02-23/
SUMMARY:Vorstandssitzung VS 02.23
DESCRIPTION:\n 	Vorbereitung MV\n
END:VEVENT
END:VCALENDAR