BEGIN:VCALENDAR
VERSION:2.0
PRODID:-//wp-events-plugin.com//6.6.1//EN
TZID:Europe/Zurich
X-WR-TIMEZONE:Europe/Zurich
BEGIN:VEVENT
UID:27@fsai.ch
DTSTART:20210909T180000Z
DTEND:20210909T220000Z
DTSTAMP:20210805T072421Z
URL:https://www.fsai.ch/events/vorstandssitzung-und-werkstattgespraech/
SUMMARY:Werkstattgespräch
DESCRIPTION:Aebi Vincent Architekten SIA AG\n\nVeranstaltungsbeginn 18.00 U
 hr
LOCATION:Büro Aebi Vincent Architekten SIA AG\, Monbijoustrasse 61\, Bern\
 , 3007\, Schweiz
GEO:46.94123;7.436261
X-APPLE-STRUCTURED-LOCATION;VALUE=URI;X-ADDRESS=Monbijoustrasse 61\, Bern\,
  3007\, Schweiz;X-APPLE-RADIUS=100;X-TITLE=Büro Aebi Vincent Architekten 
 SIA AG:geo:46.94123,7.436261
END:VEVENT
END:VCALENDAR