BEGIN:VCALENDAR
VERSION:2.0
PRODID:-//wp-events-plugin.com//6.6.1//EN
TZID:Europe/Zurich
X-WR-TIMEZONE:Europe/Zurich
BEGIN:VEVENT
UID:33@fsai.ch
DTSTART;VALUE=DATE:20210917
DTEND;VALUE=DATE:20210918
DTSTAMP:20210818T162202Z
URL:https://www.fsai.ch/events/vorstandssitzung-und-mitgliederversammlung-
 2/
SUMMARY:Vorstandssitzung und Mitgliederversammlung
DESCRIPTION:*** NEUER ORT\, NEUES DATUM ***\nVorstandssitzung mit anschlies
 sender MV mit Rahmenprogramm in Stans\n\n12.00h Vorstandssitzung\n14.00h M
 itgliederversammlung fsai 2021\n16.00h Führung durch das Culinarium Alpin
 um\n17.00h Apéro\n18.00h gemeinsames Nachtessen\n\nAnfahrt mit ÖV\nBern 
 ab 12.00h – Stand an 13.23h – Culinarium an 13.33h\nLuzern ab 13.10h
  – Stand an 13.23h – Culinarium an 13.33h\nZürich ab 12.10h – Stand
  an 13.23h – Culinarium an 13.33h\nSt. Gallen ab 10.58h – Stand an 13.
 23h – Culinarium an 13.33h
LOCATION:Culinarium Alpinum\, Mürgstrasse 18\, Stans\, 6370\, Schweiz
GEO:46.955549;8.36915
X-APPLE-STRUCTURED-LOCATION;VALUE=URI;X-ADDRESS=Mürgstrasse 18\, Stans\, 6
 370\, Schweiz;X-APPLE-RADIUS=100;X-TITLE=Culinarium Alpinum:geo:46.955549,
 8.36915
END:VEVENT
END:VCALENDAR