BEGIN:VCALENDAR
VERSION:2.0
PRODID:-//wp-events-plugin.com//6.6.1//EN
TZID:Europe/Zurich
X-WR-TIMEZONE:Europe/Zurich
BEGIN:VEVENT
UID:28@fsai.ch
DTSTART:20211119T163000Z
DTEND:20211119T233000Z
DTSTAMP:20211115T165628Z
URL:https://www.fsai.ch/events/vorstandssitzung-und-jahresausklang-fsai/
SUMMARY:Vorstandssitzung und Jahresausklang fsai 2021
DESCRIPTION:Die HV 2021 für die Mitglieder der Regionalgruppe Zürich-Nord
 schweiz findet am Freitag\, 19.11.2021 um 16.30 Uhr im «The Circle»\, Fl
 ughafen Zürich\, statt.\n\nFür die anschliessende Führung/Besichtigung 
 und das Nachtessen sind alle Mitglieder des fsai\, Partnerinnen und Partne
 r sowie Gäste herzlich willkommen.\n\nFür den Anlass gilt die Zertifikat
 spflicht.\n\nDokumente:\n\nEinladung_Traktanden HV 2021 fsai RG ZH-NCH\n\n
 Anmeldung HV &amp\; Jahresausklang 2021 fsai RG ZH-NCH\n\nEinladung HV &am
 p\; Jahresausklang 2021 fsai RG ZH-NCH\n\nfsai ZH Flyer HV &amp\; Jahresau
 sklang 2021
LOCATION:The Circle\, The Circle 23\, Zürich-Flughafen\, Zürich\, 8058\, 
 Zürich\, Schweiz
GEO:47.450711;8.565191
X-APPLE-STRUCTURED-LOCATION;VALUE=URI;X-ADDRESS=The Circle 23\, Zürich-Flu
 ghafen\, Zürich\, 8058\, Zürich\, Schweiz;X-APPLE-RADIUS=100;X-TITLE=The
  Circle:geo:47.450711,8.565191
END:VEVENT
END:VCALENDAR