BEGIN:VCALENDAR
VERSION:2.0
PRODID:-//wp-events-plugin.com//6.6.1//EN
TZID:Europe/Zurich
X-WR-TIMEZONE:Europe/Zurich
BEGIN:VEVENT
UID:29@fsai.ch
DTSTART;VALUE=DATE:20210304
DTEND;VALUE=DATE:20210305
DTSTAMP:20210129T082518Z
URL:https://www.fsai.ch/events/vorstandssitzung-und-archithavolata/
SUMMARY:Vorstandssitzung und Archithavolata - VERSCHOBEN
DESCRIPTION:Vorstandsitzung mit anschliessender Archithavolata
END:VEVENT
END:VCALENDAR