BEGIN:VCALENDAR
VERSION:2.0
PRODID:-//wp-events-plugin.com//6.6.1//EN
TZID:Europe/Zurich
X-WR-TIMEZONE:Europe/Zurich
BEGIN:VEVENT
UID:30@fsai.ch
DTSTART:20210401T000000Z
DTEND:20210401T203000Z
DTSTAMP:20210202T112151Z
URL:https://www.fsai.ch/events/vorstandssitzung-regionalgruppe-bern/
SUMMARY:Vorstandssitzung Regionalgruppe Bern
DESCRIPTION:Der genaue Ort der Sitzung wird noch festgelegt.
LOCATION:Bern\, Bern\, Bern\, 
GEO:46.947974;7.447447
X-APPLE-STRUCTURED-LOCATION;VALUE=URI;X-ADDRESS=Bern\, Bern\, ;X-APPLE-RADI
 US=100;X-TITLE=Bern:geo:46.947974,7.447447
END:VEVENT
END:VCALENDAR