BEGIN:VCALENDAR
VERSION:2.0
PRODID:-//wp-events-plugin.com//6.6.1//EN
TZID:Europe/Zurich
X-WR-TIMEZONE:Europe/Zurich
BEGIN:VEVENT
UID:52@fsai.ch
DTSTART:20230901T100000Z
DTEND:20230901T120000Z
DTSTAMP:20221022T154936Z
URL:https://www.fsai.ch/events/vorstandssitzung-04-23/
SUMMARY:Vorstandssitzung 04.23
DESCRIPTION:Gastgeber Thomas Wethli
END:VEVENT
END:VCALENDAR