BEGIN:VCALENDAR
VERSION:2.0
PRODID:-//wp-events-plugin.com//6.6.1//EN
TZID:Europe/Zurich
X-WR-TIMEZONE:Europe/Zurich
BEGIN:VEVENT
UID:34@fsai.ch
DTSTART:20210909T180000Z
DTEND:20210909T230000Z
DTSTAMP:20210802T131340Z
URL:https://www.fsai.ch/events/swiss-live-performance-2021/
SUMMARY:Swiss Live Performance 2021
DESCRIPTION:Die bereits etablierte Veranstaltungsreihe swiss performance de
 r archithese findet dieses Jahr endlich wieder statt. Am 9. September ab 1
 8 Uhr stellen elf Architekt*innen  je ein Projekt mit zwanzig Folien\, fl
 inken Worten und ausdrucksstarken Bildern in sechseinhalb Minuten vor. Fre
 uen Sie sich auf:\n\n 	Martin Bucher (Enzmann Fischer)\, Probehaus für da
 s Sinfonieorchester\, Luzern\n 	Andreas Bründler (Buchner Bründler)\, Um
 bau Remise Missionsstrasse\, Basel\n 	Patrick Gmür (Steib Gmür Gschwentn
 er Kyburz)\, Wohnhaus Rietpark\, Schlieren\n 	Reto Gmür (Sylvia und Reto 
 Gmür)\, Bürgerspital\, Solothurn\n 	Anna Jessen (jessenvollenweider)\, W
 ohnüberbauung Riehenring\, Basel\n 	Jeanette Kuo (Karamuk Kuo)\, Haus am 
 Hang\, Zollikon\n 	Oliver Lütjens (Lütjens Padmanabhan)\, Mehrfamilienha
 us\, Therwil\n 	Ji Min An (AM Architects)\, Highlife\, Rotkreuz\n 	Andreas
  Reinhardt (Marazzi Reinhardt)\, Haus zum Pudel\, Beringen\n 	Johannes Sau
 rer\, Aufstockung\, Uebschi\n 	Gus Wüstemann\, Pavillon-Haus\, Buchberg\n
 \nDie Veranstaltung findet im Willy G. S. Hirzel Auditorium des Landesmuse
 um unweit des Zürcher Hauptbahnhofes statt. Die Tickets kosten CHF 25.–
  (bei Vorlage eines Studierendenausweises CHF 16.–). Sie können online 
 erworben werden. Im Preis enthalten ist eine Ausgabe von archithese 1.2021
  Swiss Performance (die am Beginn der Veranstaltung überreicht wird) und 
 ein Apéro am Ende der Veranstaltung.\n\nFür Abonnent*innen ist der Eintr
 itt frei. Ihre Anmeldung senden Sie bitte an redaktion@archithese.ch und g
 eben bitte Ihre Anschrift\, Telefonnummer und E-Mail gleich mit an\, da wi
 r diese im Rahmen der Corona-Schutzmassnahmen aufnehmen müssen.
LOCATION:Landesmuseum Zürich\, Willy G.S. Hirzel Auditorium\, Museumstrass
 e 2\, Zürich\, Zürich\, 8001\, Schweiz
GEO:47.379595;8.540559
X-APPLE-STRUCTURED-LOCATION;VALUE=URI;X-ADDRESS=Museumstrasse 2\, Zürich\,
  Zürich\, 8001\, Schweiz;X-APPLE-RADIUS=100;X-TITLE=Landesmuseum Zürich\
 , Willy G.S. Hirzel Auditorium:geo:47.379595,8.540559
END:VEVENT
END:VCALENDAR