BEGIN:VCALENDAR
VERSION:2.0
PRODID:-//wp-events-plugin.com//6.6.1//EN
TZID:Europe/Zurich
X-WR-TIMEZONE:Europe/Zurich
BEGIN:VEVENT
UID:36@fsai.ch
DTSTART:20211028T173000Z
DTEND:20211028T213000Z
DTSTAMP:20211025T125506Z
URL:https://www.fsai.ch/events/preisverleihung-des-berner-kulturpreises-at
 u-prix-2021/
SUMMARY:Preisverleihung des Berner Kulturpreises ATU-PRIX 2021
DESCRIPTION:Baukultur entsteht durch das respekt- und vertrauensvolle Zusam
 menarbeiten von Öffentlichkeit\, Auftraggebenden\, Planenden und der Bauw
 irtschaft\, sie leistet einen grundlegenden Beitrag zur kulturellen Identi
 tät und zur Vielfalt kultureller Ausdrucksformen unserer Lebenswelt.\n\nA
 tuprix\, die Auszeichnung für Berner Baukultur\, wird alle drei Jahre fü
 r beispielhafte\, zeitgenössische und interdisziplinäre Werke und Planun
 gen im Kanton Bern verliehen. Damit ehrt die Stiftung seit 1989 private\, 
 öffentliche und institutionelle Auftraggebende\, Autorinnen und Autoren.\
 n\nDer Preis wird von einer namhaften Fachjury vergeben. Im September hat 
 dieses Gremium aus den 88 eingereichten Projekten 13 für die Auszeichnung
  2021 nominiert. Die Auszeichnungen und der Publikumspreis werden am Donne
 rstag\, 28.Oktober 2021\, im Rahmen einer öffentlichen Preisverleihung im
  Kornhausforum Bern bekanntgegeben\, gewürdigt und zelebriert. Gleichzeit
 ig wird auf der Galerie des Kornhausforums Bern die Ausstellung eröffnet.
 \n\nAlle fsai-Mitglieder sind herzlich eingeladen.\n\nEintritt nur mit Cov
 id-Zertifikat oder aktuellem Testnachweis
LOCATION:Stadtsaal Kornhausforum Bern\, Kornhausplatz 18\, Bern\, Bern\, 30
 11\, Schweiz
GEO:46.948827;7.447247
X-APPLE-STRUCTURED-LOCATION;VALUE=URI;X-ADDRESS=Kornhausplatz 18\, Bern\, B
 ern\, 3011\, Schweiz;X-APPLE-RADIUS=100;X-TITLE=Stadtsaal Kornhausforum Be
 rn:geo:46.948827,7.447247
END:VEVENT
END:VCALENDAR