BEGIN:VCALENDAR
VERSION:2.0
PRODID:-//wp-events-plugin.com//6.6.1//EN
TZID:Europe/Zurich
X-WR-TIMEZONE:Europe/Zurich
BEGIN:VEVENT
UID:90@fsai.ch
DTSTART:20250320T180000Z
DTEND:20250320T210000Z
DTSTAMP:20250127T094045Z
URL:https://www.fsai.ch/events/orientierungsanlass-be/
SUMMARY:Orientierungsanlass Stadtplanung Bern
DESCRIPTION:Vidmarhallen im Liebefeld\n\nKurzreferat: Stadtplanung Bern 202
 5\, Jeanette Beck\n\nOrientierung Aktivitäten fsai\n\nNachtessen im Le Be
 izli\n\nVeranstalter Regionalgruppe Bern
LOCATION:Bern\, Bern\, Bern\, 
GEO:46.947974;7.447447
X-APPLE-STRUCTURED-LOCATION;VALUE=URI;X-ADDRESS=Bern\, Bern\, ;X-APPLE-RADI
 US=100;X-TITLE=Bern:geo:46.947974,7.447447
END:VEVENT
END:VCALENDAR