BEGIN:VCALENDAR
VERSION:2.0
PRODID:-//wp-events-plugin.com//6.6.1//EN
TZID:Europe/Zurich
X-WR-TIMEZONE:Europe/Zurich
BEGIN:VEVENT
UID:93@fsai.ch
DTSTART:20260430T173000Z
DTEND:20260430T223000Z
DTSTAMP:20260401T094235Z
URL:https://www.fsai.ch/events/mv-2026/
SUMMARY:MV 2026
DESCRIPTION:Mitgliederversammlung mit Rahmenprogramm\nTreffpunkt 16:45 Uhr:
  Eingang Berner Münster\, Münsterplatz 1\, 3011 Bern\nPoint de rendez-vo
 us 16:45 Uhr: Entrée de la cathédrale de Berne\, Münsterplatz 1\, 3011 
 Bern\nMitgliederversammlung 2026 | Assemblée des membres 2026 (18:15 h): 
 Kornhausforum Bern\, Kornhausplatz 18\, 3011 Bern\nNachtessen | Dîner (19
 :45 h) Ristaurante Più\, Kornhausplatz 18\, 3011 Bern\n03 Einladung Mitgl
 iederversammlung 2026\n\n01 FSAI Traktandenliste MV 2026
END:VEVENT
END:VCALENDAR