BEGIN:VCALENDAR
VERSION:2.0
PRODID:-//wp-events-plugin.com//6.6.1//EN
TZID:Europe/Zurich
X-WR-TIMEZONE:Europe/Zurich
BEGIN:VEVENT
UID:85@fsai.ch
DTSTART:20250424T173000Z
DTEND:20250424T223000Z
DTSTAMP:20241015T090556Z
URL:https://www.fsai.ch/events/mv-2025/
SUMMARY:MV 2025
DESCRIPTION:Mitgliederversammlung  mit Rahmenprogramm in/um Luzern\n\nVera
 nstaltungsort und Traktanden folgen
END:VEVENT
END:VCALENDAR