BEGIN:VCALENDAR
VERSION:2.0
PRODID:-//wp-events-plugin.com//6.6.1//EN
TZID:Europe/Zurich
X-WR-TIMEZONE:Europe/Zurich
BEGIN:VEVENT
UID:49@fsai.ch
DTSTART:20230505T000000Z
DTEND:20230505T000000Z
DTSTAMP:20221022T154545Z
URL:https://www.fsai.ch/events/mitgliederversammlung-mv-fsai-2023/
SUMMARY:Mitgliederversammlung MV fsai 2023
DESCRIPTION:Organisation durch Regionalgruppe ZH/Nordschweiz
END:VEVENT
END:VCALENDAR