BEGIN:VCALENDAR
VERSION:2.0
PRODID:-//wp-events-plugin.com//6.6.1//EN
TZID:Europe/Zurich
X-WR-TIMEZONE:Europe/Zurich
BEGIN:VEVENT
UID:17@fsai.ch
DTSTART:20200515T000000Z
DTEND:20200515T000000Z
DTSTAMP:20200429T132315Z
URL:https://www.fsai.ch/events/mitgliederversammlung-2020/
SUMMARY:Mitgliederversammlung 2020
DESCRIPTION:**VERSCHOBEN**\n\nDie Mitgliederversammlung des fsai ist bis au
 f weiteres verschoben aufgrund der Massnahmen zur Eindämmung der COVID-19
 -Pandemie
END:VEVENT
END:VCALENDAR