BEGIN:VCALENDAR
VERSION:2.0
PRODID:-//wp-events-plugin.com//6.6.1//EN
TZID:Europe/Zurich
X-WR-TIMEZONE:Europe/Zurich
BEGIN:VEVENT
UID:69@fsai.ch
DTSTART:20240926T120000Z
DTEND:20240926T143000Z
DTSTAMP:20240916T075410Z
URL:https://www.fsai.ch/events/mitglieder-event-archithavolata/
SUMMARY:Archithavolata 2024
DESCRIPTION:Ärmel hoch gegen Baumängel!\n\nBauschadensexperte René Graf 
 berichtet uns von seinen Erfahrungen als Bauherrenberater und Schadensguta
 chter.\n\nWir treffen uns um 11.45 im Loft 5 an der Europaallee. Das Lokal
  ist wenige Minuten vom Hauptbahnhof entfernt sehr zentral gelegen. Nach R
 enés Vortrag vertiefen wir das Gehörte und tauschen uns über unsere eig
 enen Erfahrungen aus. Wer mag\, kann gerne interessierte Freund*innen und 
 Kolleg*innen mitbrigen. Die Teilnehmerzahl ist auf 20 beschränkt.\n\nOrt:
  Loft 5\, Europaallee 15\, Zürich\n\nDatum\, Zeit: 26.9.24\, 11.45h\n\nKo
 sten: CHF 35 pro Person (Essen inklusive)\n\nAnmeldung über: fsai@fsai.ch
 \n\nAnmeldeschluss: 23.9.24
LOCATION:Loft 5\, Europaallee 15\, Zürich\, 8004\, Schweiz
GEO:47.378407;8.533809
X-APPLE-STRUCTURED-LOCATION;VALUE=URI;X-ADDRESS=Europaallee 15\, Zürich\, 
 8004\, Schweiz;X-APPLE-RADIUS=100;X-TITLE=Loft 5:geo:47.378407,8.533809
END:VEVENT
END:VCALENDAR