BEGIN:VCALENDAR
VERSION:2.0
PRODID:-//wp-events-plugin.com//6.6.1//EN
TZID:Europe/Zurich
X-WR-TIMEZONE:Europe/Zurich
BEGIN:VEVENT
UID:89@fsai.ch
DTSTART:20241104T180000Z
DTEND:20241104T210000Z
DTSTAMP:20241009T074203Z
URL:https://www.fsai.ch/events/kapuzinerninnenkloster-stans-wie-weiter/
SUMMARY:Kapuzinerninnenkloster Stans – wie weiter?
DESCRIPTION:Erläuterung Stand der Umnutzung\, Machbarkeitsstudie mit Max L
 ehmann\, Stiftungsrat und Daniel Niederberger\, Architekt\n\n18:00 Uhr Tre
 ffpunkt Büro Quartier Vier Architektur\, St. Klararain 1\, Stans\n\nVors
 tellen Ruedi Imlig &amp\; Quartier Vier Architektur AG\nBesichtigung Klost
 er\nBeisammensein und Apéro\n\n&nbsp\;\n\nAnmeldung bis spätestens 28. O
 ktober 2024 an Niklaus Reinhard: reinhard@quartiervier.ch
LOCATION:Büro Quartier Vier Architektur\, St. Klararain 1\, Stans\, Schwei
 z
GEO:46.955878;8.365831
X-APPLE-STRUCTURED-LOCATION;VALUE=URI;X-ADDRESS=St. Klararain 1\, Stans\, S
 chweiz;X-APPLE-RADIUS=100;X-TITLE=Büro Quartier Vier Architektur:geo:46.9
 55878,8.365831
END:VEVENT
END:VCALENDAR